

BEGIN:VCALENDAR
VERSION:2.0
PRODID:-//ESX - ECPv6.15.20//NONSGML v1.0//EN
CALSCALE:GREGORIAN
METHOD:PUBLISH
X-ORIGINAL-URL:https://esxweb.com
X-WR-CALDESC:Events for ESX
REFRESH-INTERVAL;VALUE=DURATION:PT1H
X-Robots-Tag:noindex
X-PUBLISHED-TTL:PT1H
BEGIN:VTIMEZONE
TZID:UTC
BEGIN:STANDARD
TZOFFSETFROM:+0000
TZOFFSETTO:+0000
TZNAME:UTC
DTSTART:20250101T000000
END:STANDARD
END:VTIMEZONE
BEGIN:VEVENT
DTSTART;TZID=UTC:20260602T093500
DTEND;TZID=UTC:20260602T103500
DTSTAMP:20260420T093026
CREATED:20260220T205945Z
LAST-MODIFIED:20260223T204820Z
UID:10000152-1780392900-1780396500@esxweb.com
SUMMARY:Tech Talk Sponsored by Rocket Media
DESCRIPTION:Tech Talk Sponsored by Rocket MediaYour Leads Are Disappearing: How AI Search Is Killing Security Dealer Visibility (And What to Do About It) \nSecurity buyers are finding you differently — and most dealers are losing visibility. AI Overviews and zero-click searches are shrinking organic traffic\, while AI assistants rarely recommend local companies. This session breaks down what’s happening and delivers a practical\, Monday-morning plan to protect your leads\, RMR growth\, and competitive edge. \nThe Pub Crawl is a great casual way to interact with other professionals in the electronic security and life safety industry. This is where work meets play and industry friendships are formed. The Pub Crawl is open to all pass holders. Register here. \nThe ESX Electronic Security Expo is a meaningful event open exclusively to the pro-installer and integrator and is designed to allow passionate professionals the ability to learn more\, share more and interact more. Stop settling for quick\, unmeaningful badge scans and celebrate what the power of a focused event can do for your growth. ESX delivers an experience with a higher level of collaboration and thoughtful conversations among peers. \nSee you there! \n \n					\n					\n					\n						\n							\n								\n							\n						\n					 \n					\n					\n					\n						\n							\n								\n							\n						\n					 \n					\n					\n					\n						\n							\n								\n							\n						\n					This Track is sponsored by:Sponsor This Event!Become a Sponsor for ESX Today!
URL:https://esxweb.com/event/tech-talk-sponsored-by-rocket-media/
LOCATION:Meeting Room 3
CATEGORIES:Tech Talk - Exhibitor Training
ATTACH;FMTTYPE=image/png:https://esxweb.com/wp-content/uploads/2026/02/Tech-Talk-Sponsored-Rocket-Media_3-1.png
END:VEVENT
END:VCALENDAR