

BEGIN:VCALENDAR
VERSION:2.0
PRODID:-//ESX - ECPv6.15.20//NONSGML v1.0//EN
CALSCALE:GREGORIAN
METHOD:PUBLISH
X-WR-CALNAME:ESX
X-ORIGINAL-URL:https://esxweb.com
X-WR-CALDESC:Events for ESX
REFRESH-INTERVAL;VALUE=DURATION:PT1H
X-Robots-Tag:noindex
X-PUBLISHED-TTL:PT1H
BEGIN:VTIMEZONE
TZID:Asia/Dubai
BEGIN:STANDARD
TZOFFSETFROM:+0400
TZOFFSETTO:+0400
TZNAME:+04
DTSTART:20240101T000000
END:STANDARD
END:VTIMEZONE
BEGIN:VEVENT
DTSTART;TZID=Asia/Dubai:20250606T084500
DTEND;TZID=Asia/Dubai:20250606T100000
DTSTAMP:20260420T191328
CREATED:20241111T211745Z
LAST-MODIFIED:20260107T234739Z
UID:10000001-1749199500-1749204000@esxweb.com
SUMMARY:Mastering the Art of Selling Video Monitoring Solutions (Template)
DESCRIPTION:MANAGEMENTVisionary Insights: How and Why Video Monitoring Can Supercharge Your RMRIn today’s security-conscious world\, video monitoring is no longer a luxury but a necessity for residential and commercial end users.Uncover innovative strategies and applications to leverage video monitoring for significant RMR growth. From surveillance enhancements to customized solutions\, learn how this technology can serve as a catalyst for diversification and revenue acceleration. \nThe ESA team is excited to see you at this event. \nIn this session\, you’ll learn: The top applications that resonate with users How AI and analytics shape video monitoring How to implement effective marketing strategies to promote video monitoring The best practices in aligning video services seamlessly with customer expectations Unlocking Profitability through Video Monitoring Services An ESX Executive Pass or Deluxe Pass is required to gain access to this and all best-practice sharing sessions. \nREGISTER FOR AN EXECUTIVE OR DELUXE PASS TO ACCESS THIS COURSE.See all CEU credits available for attending ESX 2026 education sessions. MORE \nTHIS COURSE IS ELIGIBLE FOR CEU CREDITSPresenters:Dave MathewsVice President at ResideoDave MathewsVice President at ResideoDo You Want to Be a Presenter?Apply TodayESX EDUCATION TRACKManagementLearn to implement and manage key performance indicators that help to streamline processes and improve top and bottom line results. Find ways to build a strong culture that helps you drive transformational leadership and change throughout the organization. Examine emerging trends and leading-edge technologies that will excite your customers’ changing demands and open new markets to evolve your business. \nThis Track is sponsored by:Sponsor This ESX Education Track! Showcase Your Product or Service with Engaged Security Pros! LEARN MORE
URL:https://esxweb.com/event/edu-template/
CATEGORIES:Education Sessions
ATTACH;FMTTYPE=image/png:https://esxweb.com/wp-content/uploads/2024/11/new2024_Management.png
END:VEVENT
END:VCALENDAR