

BEGIN:VCALENDAR
VERSION:2.0
PRODID:-//ESX - ECPv6.15.20//NONSGML v1.0//EN
CALSCALE:GREGORIAN
METHOD:PUBLISH
X-ORIGINAL-URL:https://esxweb.com
X-WR-CALDESC:Events for ESX
REFRESH-INTERVAL;VALUE=DURATION:PT1H
X-Robots-Tag:noindex
X-PUBLISHED-TTL:PT1H
BEGIN:VTIMEZONE
TZID:UTC
BEGIN:STANDARD
TZOFFSETFROM:+0000
TZOFFSETTO:+0000
TZNAME:UTC
DTSTART:20250101T000000
END:STANDARD
END:VTIMEZONE
BEGIN:VEVENT
DTSTART;TZID=UTC:20260603T140000
DTEND;TZID=UTC:20260603T150000
DTSTAMP:20260421T160909
CREATED:20251127T034422Z
LAST-MODIFIED:20260407T173305Z
UID:10000108-1780495200-1780498800@esxweb.com
SUMMARY:Expo Reception: Denim and Diamonds
DESCRIPTION:Expo Denim & Diamonds Reception Shine bright and settle in for a little sparkle-meets-western fun at the Expo Denim & Diamonds Reception — the perfect pregame to the evening’s Weinstock Celebration. Join us on the expo floor as we mix casual charm with a touch of glam\, bringing together music\, style\, themed bites\, and plenty of room to mingle before the night kicks into full swing.  \nEXPO STOPSCORNER 1:\nBlue Jean Lounge\n\nA relaxed\, easygoing space inspired by your favorite pair of jeans. Settle into casual comfort\, enjoy light bites\, and ease into the evening.  \n\n\nCORNER 2:\nDiamond Saloon\n\nA polished\, high-sparkle setting where classic saloon energy meets modern glam. Sip\, socialize\, and enjoy a lively\, effortless networking vibe.  \n\n\nCORNER 3:\nRhinestone Rodeo \n\nA playful mix of western spirit and rhinestone shimmer. Enjoy fun\, interactive moments and upbeat energy throughout.  \n\n\nCORNER 4:\nHonky-Tonk Glam\n\nWhere country charm meets extra shine. Enjoy music\, movement\, and a festive atmosphere as the night gets underway.  \n\n\n \n					\n					\n					\n						\n							\n								woman with cowboy hat at a party\n							\n						\n					 \n					\n					\n					\n						\n							\n								\n							\n						\n					 \n					\n					\n					\n						\n							\n								Costume party\, Wild West Saloon: Cowboy hats\, bandanas\, and saloon dresses\, friends playing poker\, line dancing\, and enjoying whiskey.\n							\n						\n					With its mix of style\, sparkle\, and western flair\, the Expo Denim & Diamonds Reception sets the tone for an unforgettable evening — and gives attendees a fun\, relaxed way to connect before heading to the Weinstock Celebration.\nThis Track is sponsored by:Sponsor an Expo Corner!Become a Sponsor for ESX Today!
URL:https://esxweb.com/event/expo-denim-diamonds-reception/
LOCATION:Hall AB
CATEGORIES:Expo Activities,Networking and Social Events
ATTACH;FMTTYPE=image/png:https://esxweb.com/wp-content/uploads/2025/11/Expo-Denim-Diamond.png
END:VEVENT
BEGIN:VEVENT
DTSTART;TZID=UTC:20260603T180000
DTEND;TZID=UTC:20260603T200000
DTSTAMP:20260421T160909
CREATED:20251205T184034Z
LAST-MODIFIED:20260304T232218Z
UID:10000115-1780509600-1780516800@esxweb.com
SUMMARY:Weinstock Celebration
DESCRIPTION:Denim & Diamonds ExperienceWeinstock CelebrationCelebrate excellence at the ESA Weinstock Celebration\, an evening dedicated to honoring the Morris F. Weinstock Award winner and their impact on our industry. Set within the unique atmosphere of the Rayleigh Underground\, this event combines meaningful recognition with an elevated Denim & Diamonds theme. \nThe night will feature a live band\, spirits\, and hors d’oeuvres\, creating a dynamic and festive environment for guests to connect\, celebrate\, and enjoy the moment together. From high-energy entertainment to heartfelt recognition\, this event brings the ESX community together for one of the most anticipated evenings of the week. \nDenim is encouraged. Diamonds are expected. Dress to impress and embrace the theme as we celebrate achievement\, community\, and the spirit of ESX in an evening you won’t want to miss. \nLift as You Lead\n In the ESX General Session\, Johnston will unpack the habits that turn quiet potential into confident performance—and create a culture where people take ownership because they feel seen. As a leading fullback for the Dallas Cowboy’s Johnston was the main blocker for Emmitt Smith – an all-time NFL rushing leader and Cowboy’s Star playmaker. It was Johnston’s quiet selflessness and dedication to the team that made way for touchdowns. \nVideo Link goes in section ( it should be 1920×800 px )Key Takeaways:With locker-room stories\, Johnston will demonstrate how to quietly build trustLearn how confidence can make “good teammates” into difference-makersGenerate a playbook for lifting others up—so wins become repeatable & confidence becomes contagiousTrue creative work happens in the space between today’s resources and tomorrow’s potential. The ESX General Session equips leaders with the tools\, perspectives\, and strategies they need to inspire teams and fuel innovation.\nCelebrate The Weinstock Person of the Year!The Morris F. Weinstock Person of the Year Award is the Electronic Security Association’s (ESA) highest honor\, established in 1970 to recognize extraordinary leadership\, dedication\, and volunteer service to the industry and the association.  \nThe award is graciously sponsored by Resideo\, ESA’s exclusive Diamond Executive Strategic Partner. 2025 Winner to be selected & announced \n \n					\n					\n					\n						\n							\n								\n							\n						\n					About Daryl “Moose”  Johnston\nNFL LegacyThree-time Super Bowl champion and two-time Pro Bowl fullback for the Dallas Cowboys\, playing 149 consecutive games. \nBroadcast CareerEntering his 23rd FOX NFL season as a seasoned analyst\, having worked alongside Kevin Kugler\, Kenny Albert\, and Joe Davis. \nNFL Career HighlightsRecorded 294 receptions for 2\,227 yards and 14 touchdowns\, with 232 rushing attempts for 753 yards; achieved a career-high 50 receptions in the 1993 season. \nFront Office & Media ExperienceFormer General Manager of the San Antonio Commanders (AAF) and longtime contributor to NFL broadcasts\, including BCS bowl games and NFL Network segments. \nAcademic & Athletic FoundationAll-American at Syracuse University\, second-round draft pick for the Cowboys\, and graduate with a degree in economics. \nPhilanthropyDedicated supporter of Special Olympics\, Children’s Cancer Fund\, Cystic Fibrosis Foundation\, and nominee for the prestigious Whizzer White Humanitarian Award. \nWeinstock Celebration\nNetworking is vital to business success — and ESX Networking is fundamental to the event experience. Rub elbows with some of the brightest minds in the industry as you develop trust\, industry friendships and groups of peers you can collaborate with throughout the year. The ESX Weinstock Celebration recognizes the recipient of ESA‘s most prestigious award\, the Morris F Weinstock Person of the Year — an award dedicated to recognizing the lifetime achievement and service to the industry of a dedicated individual. Let’s have some fun with this year’s winner! \nThis event is sponsored by:Sponsor This Event!Become a Sponsor for ESX Today!
URL:https://esxweb.com/event/weinstock-celebration/
LOCATION:Rayleigh Underground
CATEGORIES:Networking and Social Events
ATTACH;FMTTYPE=image/png:https://esxweb.com/wp-content/uploads/2025/12/Networking-and-Social-events-copy-4.png
END:VEVENT
END:VCALENDAR