

BEGIN:VCALENDAR
VERSION:2.0
PRODID:-//ESX - ECPv6.15.20//NONSGML v1.0//EN
CALSCALE:GREGORIAN
METHOD:PUBLISH
X-WR-CALNAME:ESX
X-ORIGINAL-URL:https://esxweb.com
X-WR-CALDESC:Events for ESX
REFRESH-INTERVAL;VALUE=DURATION:PT1H
X-Robots-Tag:noindex
X-PUBLISHED-TTL:PT1H
BEGIN:VTIMEZONE
TZID:Asia/Dubai
BEGIN:STANDARD
TZOFFSETFROM:+0400
TZOFFSETTO:+0400
TZNAME:+04
DTSTART:20250101T000000
END:STANDARD
END:VTIMEZONE
BEGIN:VEVENT
DTSTART;TZID=Asia/Dubai:20260604T080000
DTEND;TZID=Asia/Dubai:20260604T100000
DTSTAMP:20260420T170310
CREATED:20260115T192744Z
LAST-MODIFIED:20260409T193753Z
UID:10000149-1780560000-1780567200@esxweb.com
SUMMARY:Executive Breakfast Roundtable - Fail Forward: Leaders Share the Lessons That Built Them
DESCRIPTION:EXECUTIVE LEADERSHIPBreakfast Roundtable – Fail Forward: Leaders Share the Lessons That Built ThemBehind every success story are failures that shaped the journey. Great leaders aren’t afraid to be transparent about the mistakes they’ve made—and the lessons learned along the way. In this candid session\, industry leaders share personal stories of challenges\, setbacks\, and failures that ultimately made them stronger. You’ll discover how vulnerability builds trust\, strengthens teams\, and inspires growth. Walk away with the reassurance that failure isn’t the end—it’s a catalyst for becoming a better leader. \nThe ESA team is excited to see you at this event. \nIn this session\, you’ll learn to: Personal failure stories and the breakthroughs they enabled. How vulnerability strengthens trust and team performance. Why transparency about failure is essential for leadership growth. Tools and Resources: Service inventory worksheets. Good\, better\, best templates for subscription levels. REGISTER FOR AN EXECUTIVE PASS TO ACCESS THIS WORKSHOPAn ESX Executive Pass is required to gain access to this and all best-practice sharing sessions. \nPresenters \n					\n					\n					\n						\n							\n								\n							\n						\n					Jack DoylePresident & CEO of Doyle Security Systems Inc. \n					\n					\n					\n						\n							\n								\n							\n						\n					Scott ElkinsCEO of Zeus Fire and Security \nESX EDUCATION TRACKExecutive LeadershipExplore advanced leadership topics such as navigating industry disruption\, fostering innovation\, and building resilient business models that adapt to changing market demands. Gain insights into financial stewardship\, mergers and acquisitions\, and optimizing organizational structure for growth. Learn how to cultivate a strong culture that attracts top talent and earns customer loyalty in an increasingly competitive landscape. \nSponsor this Event!Become a Sponsor for ESX Today! \n					\n					\n					\n						\n							\n								\n							\n						\n					The Executive Experience is Sponsored By:
URL:https://esxweb.com/event/breakfast-roundtable-fail-forward-leaders-share-the-lessons-that-built-them/
CATEGORIES:Education Sessions,Meals and Receptions
ATTACH;FMTTYPE=image/png:https://esxweb.com/wp-content/uploads/2026/01/Edu_Workshop.png
END:VEVENT
END:VCALENDAR