

BEGIN:VCALENDAR
VERSION:2.0
PRODID:-//ESX - ECPv6.15.20//NONSGML v1.0//EN
CALSCALE:GREGORIAN
METHOD:PUBLISH
X-WR-CALNAME:ESX
X-ORIGINAL-URL:https://esxweb.com
X-WR-CALDESC:Events for ESX
REFRESH-INTERVAL;VALUE=DURATION:PT1H
X-Robots-Tag:noindex
X-PUBLISHED-TTL:PT1H
BEGIN:VTIMEZONE
TZID:UTC
BEGIN:STANDARD
TZOFFSETFROM:+0000
TZOFFSETTO:+0000
TZNAME:UTC
DTSTART:20250101T000000
END:STANDARD
END:VTIMEZONE
BEGIN:VEVENT
DTSTART;TZID=UTC:20260602T141500
DTEND;TZID=UTC:20260602T143000
DTSTAMP:20260421T114332
CREATED:20251205T194931Z
LAST-MODIFIED:20260304T231932Z
UID:10000117-1780409700-1780410600@esxweb.com
SUMMARY:TechVision Award Presentation
DESCRIPTION:TechVision Award PresentationThe TechVision Challenge Winner and Runner Up will be announced at ESA Central on the Expo Floor on Tuesday\, June 2. \nThe Pub Crawl is a great casual way to interact with other professionals in the electronic security and life safety industry. This is where work meets play and industry friendships are formed. The Pub Crawl is open to all pass holders. Register here. \nThe ESX Electronic Security Expo is a meaningful event open exclusively to the pro-installer and integrator and is designed to allow passionate professionals the ability to learn more\, share more and interact more. Stop settling for quick\, unmeaningful badge scans and celebrate what the power of a focused event can do for your growth. ESX delivers an experience with a higher level of collaboration and thoughtful conversations among peers. \nSee you there! \n \n					\n					\n					\n						\n							\n								\n							\n						\n					 \n					\n					\n					\n						\n							\n								\n							\n						\n					 \n					\n					\n					\n						\n							\n								\n							\n						\n					This Track is sponsored by:Sponsor This Event!Become a Sponsor for ESX Today!
URL:https://esxweb.com/event/techvision-award-presentation/
LOCATION:ESA Central Booth
CATEGORIES:Innovation Awards
ATTACH;FMTTYPE=image/png:https://esxweb.com/wp-content/uploads/2025/12/Techvision-Presentation.png
END:VEVENT
END:VCALENDAR