

BEGIN:VCALENDAR
VERSION:2.0
PRODID:-//ESX - ECPv6.15.20//NONSGML v1.0//EN
CALSCALE:GREGORIAN
METHOD:PUBLISH
X-ORIGINAL-URL:https://esxweb.com
X-WR-CALDESC:Events for ESX
REFRESH-INTERVAL;VALUE=DURATION:PT1H
X-Robots-Tag:noindex
X-PUBLISHED-TTL:PT1H
BEGIN:VTIMEZONE
TZID:UTC
BEGIN:STANDARD
TZOFFSETFROM:+0000
TZOFFSETTO:+0000
TZNAME:UTC
DTSTART:20250101T000000
END:STANDARD
END:VTIMEZONE
BEGIN:VTIMEZONE
TZID:America/New_York
BEGIN:DAYLIGHT
TZOFFSETFROM:-0500
TZOFFSETTO:-0400
TZNAME:EDT
DTSTART:20250309T070000
END:DAYLIGHT
BEGIN:STANDARD
TZOFFSETFROM:-0400
TZOFFSETTO:-0500
TZNAME:EST
DTSTART:20251102T060000
END:STANDARD
BEGIN:DAYLIGHT
TZOFFSETFROM:-0500
TZOFFSETTO:-0400
TZNAME:EDT
DTSTART:20260308T070000
END:DAYLIGHT
BEGIN:STANDARD
TZOFFSETFROM:-0400
TZOFFSETTO:-0500
TZNAME:EST
DTSTART:20261101T060000
END:STANDARD
BEGIN:DAYLIGHT
TZOFFSETFROM:-0500
TZOFFSETTO:-0400
TZNAME:EDT
DTSTART:20270314T070000
END:DAYLIGHT
BEGIN:STANDARD
TZOFFSETFROM:-0400
TZOFFSETTO:-0500
TZNAME:EST
DTSTART:20271107T060000
END:STANDARD
END:VTIMEZONE
BEGIN:VEVENT
DTSTART;TZID=UTC:20260602T140000
DTEND;TZID=UTC:20260602T180000
DTSTAMP:20260420T181635
CREATED:20251205T162915Z
LAST-MODIFIED:20260304T221226Z
UID:10000114-1780408800-1780423200@esxweb.com
SUMMARY:ESX Expo Day 1
DESCRIPTION:Expo Open!Be there as the ESX 2026 Expo Floor officially opens\, kicking off an unparalleled showcase of innovation and opportunity! Join fellow security and life safety professionals as the ribbon is cut\, unveiling the industry’s latest technologies\, services\, and solutions. Explore state-of-the-art exhibits\, engage directly with leading suppliers\, and discover game-changing tools to take your business to the next level. This is more than just an expo—it’s a launchpad for ideas\, networking\, and growth. Don’t miss this exciting moment that sets the tone for a dynamic week ahead! \n \n					\n					\n					\n						\n							\n								\n							\n						\n					 \n					\n					\n					\n						\n							\n								\n							\n						\n					 \n					\n					\n					\n						\n							\n								\n							\n						\n					This Event is sponsored by:\n \n					\n					\n					\n						\n							\n								\n							\n						\n					Sponsor This Event!Become a Sponsor for ESX Today!
URL:https://esxweb.com/event/esx-expo-day-1-2/
LOCATION:Hall AB
CATEGORIES:Expo Activities
ATTACH;FMTTYPE=image/png:https://esxweb.com/wp-content/uploads/2025/12/Expo-Day-1.png
END:VEVENT
BEGIN:VEVENT
DTSTART;TZID=America/New_York:20260602T143000
DTEND;TZID=America/New_York:20260602T150000
DTSTAMP:20260420T181635
CREATED:20260409T180012Z
LAST-MODIFIED:20260409T180012Z
UID:10000155-1780410600-1780412400@esxweb.com
SUMMARY:Coffee Break
DESCRIPTION:Coffee BreakRecharge and reconnect during our Coffee Break at ESA Central on the show floor. Grab a fresh cup\, meet fellow attendees\, and spark new conversations in a relaxed\, energizing atmosphere before heading back to the action. \nExpo Open
URL:https://esxweb.com/event/coffee-break/
LOCATION:Hall AB
CATEGORIES:Expo Activities
ATTACH;FMTTYPE=image/png:https://esxweb.com/wp-content/uploads/2026/04/Coffee-Break.png
END:VEVENT
BEGIN:VEVENT
DTSTART;TZID=UTC:20260602T170000
DTEND;TZID=UTC:20260602T180000
DTSTAMP:20260420T181635
CREATED:20251127T011615Z
LAST-MODIFIED:20260407T171354Z
UID:10000106-1780419600-1780423200@esxweb.com
SUMMARY:Expo Block Party: Texas State Fair
DESCRIPTION:Texas State Fair ExperienceStep right up for the ESX 2026 Expo Block Party — a Texas State Fair–themed celebration right on the expo floor. Join us on Tuesday as we bring big flavors\, bright lights\, and fairground fun to wrap up the day with energy and excitement. Mingle with fellow attendees\, enjoy themed bites and activities\, and explore each corner of the party as you experience a taste of Texas. \nEXPO STOPSCORNER 1:\nFried Everything\n\nIndulge in the over-the-top favorites that make the Texas State Fair famous. From crispy classics to creative fried surprises\, this corner delivers all the indulgence you’d expect. \n\n\nCORNER 2:\nBucking Bronco\n\nEmbrace your adventurous side with rodeo-style entertainment and interactive activities that bring a little wild Texas spirit to the show floor. \n\n\nCORNER 3:\nMidway Classics\n\nTake a stroll through nostalgic\, carnival-inspired treats and timeless fair snacks. It’s the perfect stop for those who love the fun\, familiar flavors of the midway.  \n\n\nCORNER 4:\nBig Tex\n\nCelebrate bold flavors and Texas-sized pride with hearty tastes and vibrant experiences inspired by the fair’s most iconic symbol. \n\n\n \n					\n					\n					\n						\n							\n								\n							\n						\n					 \n					\n					\n					\n						\n							\n								\n							\n						\n					 \n					\n					\n					\n						\n							\n								\n							\n						\n					With great food\, lively entertainment\, and plenty of opportunities to connect\, the Expo Block Party brings the magic of the Texas State Fair straight to ESX — creating an evening you won’t want to miss!\nThis Track is sponsored by:Sponsor an Expo Corner!Become a Sponsor for ESX Today!
URL:https://esxweb.com/event/expo-block-party-texas-state-fair/
LOCATION:Hall AB
CATEGORIES:Expo Activities,Networking and Social Events
ATTACH;FMTTYPE=image/png:https://esxweb.com/wp-content/uploads/2025/11/Expo-Block-Party.png
END:VEVENT
END:VCALENDAR