

BEGIN:VCALENDAR
VERSION:2.0
PRODID:-//ESX - ECPv6.15.20//NONSGML v1.0//EN
CALSCALE:GREGORIAN
METHOD:PUBLISH
X-WR-CALNAME:ESX
X-ORIGINAL-URL:https://esxweb.com
X-WR-CALDESC:Events for ESX
REFRESH-INTERVAL;VALUE=DURATION:PT1H
X-Robots-Tag:noindex
X-PUBLISHED-TTL:PT1H
BEGIN:VTIMEZONE
TZID:America/New_York
BEGIN:DAYLIGHT
TZOFFSETFROM:-0500
TZOFFSETTO:-0400
TZNAME:EDT
DTSTART:20240310T070000
END:DAYLIGHT
BEGIN:STANDARD
TZOFFSETFROM:-0400
TZOFFSETTO:-0500
TZNAME:EST
DTSTART:20241103T060000
END:STANDARD
BEGIN:DAYLIGHT
TZOFFSETFROM:-0500
TZOFFSETTO:-0400
TZNAME:EDT
DTSTART:20250309T070000
END:DAYLIGHT
BEGIN:STANDARD
TZOFFSETFROM:-0400
TZOFFSETTO:-0500
TZNAME:EST
DTSTART:20251102T060000
END:STANDARD
BEGIN:DAYLIGHT
TZOFFSETFROM:-0500
TZOFFSETTO:-0400
TZNAME:EDT
DTSTART:20260308T070000
END:DAYLIGHT
BEGIN:STANDARD
TZOFFSETFROM:-0400
TZOFFSETTO:-0500
TZNAME:EST
DTSTART:20261101T060000
END:STANDARD
END:VTIMEZONE
BEGIN:VEVENT
DTSTART;TZID=America/New_York:20250617T110000
DTEND;TZID=America/New_York:20250617T121500
DTSTAMP:20260420T150640
CREATED:20241213T200936Z
LAST-MODIFIED:20260407T165132Z
UID:10000018-1750158000-1750162500@esxweb.com
SUMMARY:From Tension to Teamwork: Managing Conflict Between Operations and Sales
DESCRIPTION:OPERATIONSFrom Tension to Teamwork: Managing Conflict Between Operations and SalesThe relationship between sales and operations can be challenging\, with sales focused on closing deals and operations centered on efficiency and resource management.This session will explore strategies to manage the sales-to-operations handoff\, addressing common conflicts such as misaligned goals and communication breakdowns. Participants will gain practical techniques for fostering collaboration\, improving communication\, and aligning team objectives. Effectively managing these conflicts will enhance teamwork\, streamline processes\, and drive better results.  \nThe ESA team is excited to see you at this session in 2025. \nIn this session\, you’ll learn: How to identify sources of conflict between sales and operations\, including misaligned goals and differing priorities. Strategies to improve communication\, reduce misunderstandings\, and foster collaboration between teams. Techniques and tools for aligning sales and operations goals to enhance the overall customer experience. An ESX Executive Pass or Deluxe Pass is required to gain access to this and all best-practice sharing sessions. \nREGISTER FOR AN EXECUTIVE OR DELUXE PASS TO ACCESS THIS COURSE.See all CEU credits available for attending ESX 2025 education sessions. MORE \nTHIS COURSE IS ELIGIBLE FOR CEU CREDITSESX EDUCATION TRACKOperations\n\nESX Operations Track: Successful operation teams deliver high-quality service to customers. A well-oiled machine can mean high customer retention and strong workflow efficiencies. \nDiscover best practices during the ESX Operations Track that will improve your company’s operational excellence and customer experience. Explore ways to build efficiencies in installation\, service methodologies\, and human resources. Examine how others are solving today’s most common operations struggles like recruiting and retaining employees\, supply chain lags\, truck rolls\, job safety\, training\, and more. \n\n\nPresenters: \n					\n					\n					\n						\n							\n								\n							\n						\n					Joel BarfieldSr. Account ManagerSAGE Integration \n					\n					\n					\n						\n							\n								\n							\n						\n					Melissa BrinkmanCEOCustom Alarm \n					\n					\n					\n						\n							\n								\n							\n						\n					Cameron MunroVP of SalesDoor \n					\n					\n					\n						\n							\n								\n							\n						\n					Audrey Pierson (Moderator)Sales & Leadership ConsultantAudrey Pierson ConsultingSponsored by:
URL:https://esxweb.com/event/from-tension-to-teamwork-managing-conflict-between-operations-and-sales/
CATEGORIES:Education Sessions
ATTACH;FMTTYPE=image/png:https://esxweb.com/wp-content/uploads/2024/12/Operations.png
END:VEVENT
END:VCALENDAR